Workbook
Name spec: Species!$A$2:$D$2643
Name spec_1: Species!$A$2:$D$2643
Name spec_2: Species!$A$2:$D$2643
Name spec_3: Species!$A$2:$D$2643

Sheet Datasheet
A1: BIRDLIFE NORTHERN GAUTENG: RINGING GROUP
A2: RINGING SUMMARY
A3: Name of ringer | H3: SAFRING No. | I3: 1294
A4: Name of outing leader | C4: Dirk
A5: Ringing site name | C5: Moreletakloof
A6: Co-ordinates | C6: 2548 | D6: S | E6: 2820 | F6: 2817 | G6: E
A7: Altitude (m) | E7: 1508 | F7: m
A8: Acocks veld types (Leave blank) | C8: SESAW(6.40HRS) 04H50-11H30
A9: Habitat
A10: Date(dd/mm/yyyy) | C10: 40628 | H10: 40635
A11: Other qualified ringers present | C11: Karen, Stefan, Gert, Louis
C12: Rion, Lisa, Johan, Johan, Ralda
A13: Total number of nets erected | C13: =C15+E15+H15 -> 12 | E13: Total length | H13: =C15*6+E15*9+H15*12 -> 141 | I13: m
A14: Time first net up | E14: Time last net down
A15: Net lengths | D15: x6m | E15: 1 | G15: x9m | H15: 11 | I15: x12m
A16: Other traps used
A17: Birds Ringed | F17: Birds Re-trapped
A18: Robert's No. | B18: Species | C18: Imm | D18: Adult | F18: Ring No. | G18: Robert's No. | H18: Species | I18: Age | J18: Sex
A19: 317 | B19: =VLOOKUP(A19,Species!$A$3:$B$1083,2,FALSE) -> Laughing (Palm) Dove | C19: 1 | D19: 1 | F19: BE29571 | G19: 803 | H19: =VLOOKUP(G19,Species!$A$3:$B$1083,2,FALSE) -> Southern Masked-Weaver | I19: 4 | J19: 1
A20: 352 | B20: =VLOOKUP(A20,Species!$A$3:$B$1083,2,FALSE) -> Dideric (Diederik) Cuckoo | D20: 1 | F20: FA77555 | G20: 803 | H20: =VLOOKUP(G20,Species!$A$3:$B$1083,2,FALSE) -> Southern Masked-Weaver | I20: 4 | J20: 1
A21: 390 | B21: =VLOOKUP(A21,Species!$A$3:$B$1083,2,FALSE) -> Speckled Mousebird | C21: 1 | D21: 5 | F21: BE50245 | G21: 803 | H21: =VLOOKUP(G21,Species!$A$3:$B$1083,2,FALSE) -> Southern Masked-Weaver | I21: 4 | J21: 2
A22: 439 | B22: =VLOOKUP(A22,Species!$A$3:$B$1083,2,FALSE) -> Crested Barbet | D22: 1 | F22: BE50209 | G22: 803 | H22: =VLOOKUP(G22,Species!$A$3:$B$1083,2,FALSE) -> Southern Masked-Weaver | I22: 4 | J22: 1
A23: 442 | B23: =VLOOKUP(A23,Species!$A$3:$B$1083,2,FALSE) -> Lesser Honeyguide | D23: 1 | F23: L06017 | G23: 649 | H23: =VLOOKUP(G23,Species!$A$3:$B$1083,2,FALSE) -> Tawny-flanked Prinia | I23: 4 | J23: 0
A24: 545 | B24: =VLOOKUP(A24,Species!$A$3:$B$1083,2,FALSE) -> Dark-capped (Black-eyed) Bulbul | D24: 18 | F24: BE34488 | G24: 803 | H24: =VLOOKUP(G24,Species!$A$3:$B$1083,2,FALSE) -> Southern Masked-Weaver | I24: 4 | J24: 2
A25: 576 | B25: =VLOOKUP(A25,Species!$A$3:$B$1083,2,FALSE) -> African (Common) Stonechat | D25: 1 | F25: AP49739 | G25: 576 | H25: =VLOOKUP(G25,Species!$A$3:$B$1083,2,FALSE) -> African (Common) Stonechat | I25: 4 | J25: 2
A26: 581 | B26: =VLOOKUP(A26,Species!$A$3:$B$1083,2,FALSE) -> Cape Robin-Chat | D26: 6 | F26: BE28166 | G26: 803 | H26: =VLOOKUP(G26,Species!$A$3:$B$1083,2,FALSE) -> Southern Masked-Weaver | I26: 3 | J26: 0
A27: 606 | B27: =VLOOKUP(A27,Species!$A$3:$B$1083,2,FALSE) -> African Reed-Warbler | D27: 1 | F27: FH2368 | G27: 803 | H27: =VLOOKUP(G27,Species!$A$3:$B$1083,2,FALSE) -> Southern Masked-Weaver | I27: 4 | J27: 1
A28: 607 | B28: =VLOOKUP(A28,Species!$A$3:$B$1083,2,FALSE) -> Marsh (European Marsh) Warbler | D28: 1 | F28: FH56490 | G28: 803 | H28: =VLOOKUP(G28,Species!$A$3:$B$1083,2,FALSE) -> Southern Masked-Weaver | I28: 4 | J28: 1
A29: 618 | B29: =VLOOKUP(A29,Species!$A$3:$B$1083,2,FALSE) -> Cape Grassbird | D29: 1
A30: 642 | B30: =VLOOKUP(A30,Species!$A$3:$B$1083,2,FALSE) -> Rattling Cisticola | D30: 1
A31: 646 | B31: =VLOOKUP(A31,Species!$A$3:$B$1083,2,FALSE) -> Le Vaillant's (Tinkling) Cisticola | D31: 1
A32: 649 | B32: =VLOOKUP(A32,Species!$A$3:$B$1083,2,FALSE) -> Tawny-flanked Prinia | D32: 6
A33: 707 | B33: =VLOOKUP(A33,Species!$A$3:$B$1083,2,FALSE) -> Common (Fiscal) Fiscal (Shrike) | D33: 1
A34: 715 | B34: =VLOOKUP(A34,Species!$A$3:$B$3083,2,FALSE) -> Black-crowned Tchagra | D34: 1
A35: 763 | B35: =VLOOKUP(A35,Species!$A$3:$B$1083,2,FALSE) -> White-bellied (breasted) Sunbird | C35: 10 | D35: 20
A36: 772 | B36: =VLOOKUP(A36,Species!$A$3:$B$3083,2,FALSE) -> Amethyst (Black) Sunbird | C36: 16 | D36: 15
A37: 799 | B37: =VLOOKUP(A37,Species!$A$3:$B$1083,2,FALSE) -> Cape Weaver | C37: 5 | D37: 5
A38: 803 | B38: =VLOOKUP(A38,Species!$A$3:$B$3083,2,FALSE) -> Southern Masked-Weaver | C38: 56 | D38: 121
A39: 804 | B39: =VLOOKUP(A39,Species!$A$3:$B$1083,2,FALSE) -> Thick-billed (Grosbeak) Weaver | C39: 21 | D39: 21
A40: 805 | B40: =VLOOKUP(A40,Species!$A$3:$B$3083,2,FALSE) -> Red-billed Quelea | D40: 6
A41: 808 | B41: =VLOOKUP(A41,Species!$A$3:$B$1083,2,FALSE) -> Southern Red (Red) Bishop | C41: 29 | D41: 23
A42: 813 | B42: =VLOOKUP(A42,Species!$A$3:$B$3083,2,FALSE) -> Red-collared Widowbird | D42: 10
A43: 814 | B43: =VLOOKUP(A43,Species!$A$3:$B$3083,2,FALSE) -> White-winged Widowbird | D43: 2
A44: 823 | B44: =VLOOKUP(A44,Species!$A$3:$B$3083,2,FALSE) -> Bronze Mannikin | C44: 1
A45: 833 | B45: =VLOOKUP(A45,Species!$A$3:$B$3083,2,FALSE) -> African (Blue-billed) Firefinch | D45: 1
A46: 843 | B46: =VLOOKUP(A46,Species!$A$3:$B$3083,2,FALSE) -> Common Waxbill | D46: 4
A47: 859 | B47: =VLOOKUP(A47,Species!$A$3:$B$3083,2,FALSE) -> Yellow-fronted (eyed) Canary | D47: 1
A48: 860 | B48: =VLOOKUP(A48,Species!$A$3:$B$3083,2,FALSE) -> Black-throated Canary | D48: 1
A49: 867 | B49: =VLOOKUP(A49,Species!$A$3:$B$3083,2,FALSE) -> Streaky-headed Seedeater (Canary) | D49: 2
A50: 1172 | B50: =VLOOKUP(A50,Species!$A$3:$B$3083,2,FALSE) -> Cape White-eye (split) | D50: 4
A57: Total number ringed | C57: =SUM(C19:D56) -> 423 | F57: Total number retrapped | I57: =COUNTA(F19:F56) -> 10
A58: Number of species ringed | C58: =COUNTA(A19:A56) -> 32 | F58: Species retrapped | I58: 3
A59: Total birds caught | D59: =+I57+C57 -> 433 | F59: % Retraps | I59: =+I57/D59 -> 0.023094688

Sheet Species
A1: SAFRING | B1: English | C1: Latin
A2: 0
A3: 1 | B3: Common Ostrich | C3: Struthio camelus
A4: 2 | B4: African (Jackass) Penguin | C4: Spheniscus demersus
A5: 3 | B5: Rockhopper Penguin | C5: Eudyptes chrysocome
A6: 4 | B6: Great Crested Grebe | C6: Podiceps cristatus
A7: 5 | B7: Black-necked Grebe | C7: Podiceps nigricollis
A8: 6 | B8: Little Grebe (Dabchick) | C8: Tachybaptus ruficollis
A9: 7 | B9: Wandering Albatross | C9: Diomedea exulans
A10: 8 | B10: Black-browed Mollymawk (Albatross) | C10: Thalassarche melanophris
A11: 9 | B11: Grey-headed Mollymawk (Albatross) | C11: Thalassarche chrysostoma
A12: 10 | B12: Yellow-nosed Mollymawk (Albatross) | C12: Thalassarche chlororhynchos
A13: 11 | B13: Shy Mollymawk (Albatross) | C13: Thalassarche cauta
A14: 12 | B14: Sooty Albatross (Mollymawk) | C14: Phoebetria fusca
... A217: 220 | B217: Karoo Korhaan | C217: Eupodotis vigorsii
A218: 221 | B218: Rüppell's Korhaan | C218: Eupodotis rueppellii | D218: Neotis denhami
A219: 222 | B219: White-bellied Korhaan | C219: Eupodotis senegalensis
A220: 223 | B220: Blue Korhaan | C220: Eupodotis caerulescens
A221: 224 | B221: Red-crested Korhaan | C221: Eupodotis ruficrista
A222: 227 | B222: Black-bellied Bustard | C222: Eupodotis melanogaster
A223: 228 | B223: African Jacana | C223: Actophilornis africanus
A224: 229 | B224: Lesser Jacana | C224: Microparra capensis
A225: 230 | B225: Greater Painted-snipe | C225: Rostratula benghalensis
A226: 231 | B226: African Black Oystercatcher | C226: Haematopus moquini
A227: 232 | B227: Ruddy Turnstone | C227: Arenaria interpres
A228: 233 | B228: Common Ringed Plover | C228: Charadrius hiaticula
A229: 234 | B229: Lesser Sand (Mongolian) Plover | C229: Charadrius mongolus
A230: 235 | B230: White-fronted Plover | C230: Charadrius marginatus
... A359: 372 | B359: Rufous-cheeked Nightjar | C359: Caprimulgus rufigena
A360: 373 | B360: Fiery-necked Nightjar | C360: Caprimulgus pectoralis | D360: Glaucidium capense
A361: 374 | B361: Freckled Nightjar | C361: Caprimulgus tristigma
A362: 375 | B362: Swamp (Natal) Nightjar | C362: Caprimulgus natalensis
A363: 376 | B363: Square-tailed (Mozambique) Nightjar | C363: Caprimulgus fossii
A364: 377 | B364: Pennant-winged Nightjar | C364: Macrodipteryx vexillarius
A365: 378 | B365: Common (European) Swift | C365: Apus apus
A366: 379 | B366: Pallid Swift | C366: Apus pallidus
A367: 380 | B367: African Black (Black) Swift | C367: Apus barbatus
A368: 381 | B368: Bradfield's Swift | C368: Apus bradfieldi
A369: 382 | B369: Mottled Swift | C369: Tachymarptis aequatorialis
A370: 383 | B370: White-rumped Swift | C370: Apus caffer
A371: 384 | B371: Horus Swift | C371: Apus horus
A372: 385 | B372: Little Swift | C372: Apus affinis
... A438: 451 | B438: Bearded Woodpecker | C438: Dendropicos namaquus
A439: 452 | B439: Olive Woodpecker | C439: Dendropicos griseocephalus | D439: Prodotiscus regulus
A440: 453 | B440: Red-throated Wryneck | C440: Jynx ruficollis
A441: 454 | B441: African Broadbill | C441: Smithornis capensis
A442: 455 | B442: African Pitta | C442: Pitta angolensis
A443: 456 | B443: Melodious (Latakoo) Lark | C443: Mirafra cheniana
A444: 457 | B444: Monotonous Lark | C444: Mirafra passerina
A445: 458 | B445: Rufous-naped Lark | C445: Mirafra africana
A446: 459 | B446: Fawn-coloured Lark | C446: Mirafra [Calendulauda] africanoides
A447: 460 | B447: Sabota Lark | C447: Mirafra [Calendulauda] sabota
A448: 461 | B448: Karoo Lark | C448: Certhilauda [Calendulauda] albescens
A449: 462 | B449: Black-backed Barbet | C449: Lybius minor
A450: 463 | B450: Large-billed Lark | C450: Galerida magnirostris
A451: 464 | B451: Dusky Lark | C451: Pinarocorys nigricans
... A1794: 2478 | B1794: Grey-crested Helmetshrike | C1794: Prionops poliolophus
A1795: 2480 | B1795: Gabon Helmet-shrike | C1795: Prionops rufiventris | D1795: Laniarius luehderi
A1796: 2482 | B1796: Ward's Shrike-flycatcher | C1796: Pseudobias wardi
A1797: 2484 | B1797: Piapiac | C1797: Ptilostomus afer
A1798: 2486 | B1798: Yellow-billed (Alpine) Chough | C1798: Pyrrhocorax graculus
A1799: 2488 | B1799: Red-billed Chough | C1799: Pyrrhocorax pyrrhocorax
A1800: 2490 | B1800: Rosy-patched Bushshrike | C1800: Rhodophoneus cruentus
A1801: 2492 | B1801: Rufous Vanga | C1801: Schetba rufa
A1802: 2494 | B1802: Anchieta's Tchagra | C1802: Tchagra anchietae
A1803: 2496 | B1803: Three-streaked (James's) Tchagra | C1803: Tchagra jamesi
A1804: 2498 | B1804: Grey-green Bushshrike | C1804: Telophorus bocagei
A1805: 2500 | B1805: Doherty's Bushshrike | C1805: Telophorus dohertyi
A1806: 2502 | B1806: Mount Kupe (Serle's) Bushshrike | C1806: Telophorus kupeensis
A1807: 2504 | B1807: Many-colored Bushshrike | C1807: Telophorus multicolor
... A2173: 3236 | B2173: Clamorous Reed-Warbler | C2173: Acrocephalus stentoreus
A2174: 3238 | B2174: Grey Emu-tail | C2174: Amphilais seebohmi | D2174: Spiloptila clamans
A2175: 3240 | B2175: Dapple-throat (Dappled Mountain Robin) | C2175: Arcanator (Modulatrix) orostruthus
A2176: 3242 | B2176: Mrs. Moreau's Warbler | C2176: Bathmocercus (Scepomycter) winifredae
A2177: 3244 | B2177: Black-headed (-capped) Rufous Warbler | C2177: Bathmocercus cerviniventris
A2178: 3246 | B2178: Bamboo (Scrub-) Warbler | C2178: Bradypterus alfredi
A2179: 3248 | B2179: Ja River Scrub-Warbler | C2179: Bradypterus grandis
A2180: 3250 | B2180: Grauer's Swamp- (Rush-/Scrub-) Warbler | C2180: Bradypterus graueri
A2181: 3252 | B2181: Cetti's Warbler | C2181: Cettia cetti
A2182: 3254 | B2182: Yellow-browed Oxylabes | C2182: Crossleyia xanthophrys
A2183: 3256 | B2183: Cryptic Warbler | C2183: Cryptosylvicola randrianasoloi
A2184: 3258 | B2184: Brown Emu-tail | C2184: Dromaeocercus brunneus
A2185: 3260 | B2185: Salvadori's Eremomela | C2185: Eremomela [icteropygialis] salvadorii
A2186: 3262 | B2186: Green-backed Eremomela | C2186: Eremomela [pusilla] canescens
... A2634: 4142 | B2634: Southern Greyheaded Sparrow (split) | C2634: Passer diffusus
A2635: 4143 | B2635: Elegant Tern
A2636: 4144 | B2636: Woodwards' Barbet | C2636: Stactolaema [olivacea] woodwardi
A2637: 10000 | B2637: Hybrid Lesser-crested x Sandwich tern | C2637: Lesser-crested x Sandwich tern
A2638: 10001 | B2638: Hybrid Kermadec x Round Island Petrel | C2638: Kermadec x Round Island Petrel
A2639: 10002 | B2639: Hybrid Damara x Red-billed Hornbill | C2639: Damara x Red-billed Hornbill
A2640: 10003 | B2640: Muscovy Duck | C2640: Cairina moschata
